BEGIN:VCALENDAR
VERSION:2.0
PRODID:
BEGIN:VEVENT
UID:210065imp
DTSTAMP:20260421T003118Z
DTSTART:20260625T190000Z
DTEND:20260625T200000Z
SUMMARY: AICPA Town Hall Series
DESCRIPTION: The AICPA Town Hall Series delivers:\nTimely &amp\; Critical Information \nInterpretation &amp\; Analysis \nFirm and Business Strategies \nPractitioner Capabilities
CLASS:PUBLIC
END:VEVENT
END:VCALENDAR
