BEGIN:VCALENDAR
VERSION:2.0
PRODID:
BEGIN:VEVENT
UID:201658lhn
DTSTAMP:20260421T003148Z
DTSTART:20260611T133000Z
DTEND:20260611T170000Z
SUMMARY: Spring Member Appreciation Day: Public Practice
DESCRIPTION: Earn complimentary CPE at MOCPA's Spring Member Appreciation Day: Public Practice Edition! These sponsored sessions are designed for members in public practice\, this event delivers valuable insights in a convenient virtual format. Featuring timely topics and practical strategies\, the agenda is designed to help you strengthen your expertise and deliver greater value to your clients\n \nThis event will have a total of four 50-minute sessions providing 1 CPE credit each. You will be registered for every session\, attend the ones you want or attend them all!  Click on the Agenda tab to see course descriptions. \n  \nEvent Overview:\n  \n8:30am – 9:20am – AI Automation in Tax Preparation: What CPAs Can Adopt Right Now\, Presented by: FlyFin AI-Confirmed10-minute break9:30am – 10:20am – The Psychology of a Modern Tax Workflow: Reducing Anxiety\, Decision Fatigue &amp\; Compliance Risk\, Presented by: SmartVault10-minute break10:30am – 11:20am – From Audit Trails to Cybersecurity Attack Trails: What Every CPA Firm Needs to Know About Cybersecurity Governance\, Presented by: IP Services10-minute break 11:30am – 12:20pm – Exit Planning Is Not What You Think\, Presented by: Edward Jones\, Exit Planning Institute\, and Cultivate Advisors\n  \n \n  
CLASS:PUBLIC
END:VEVENT
END:VCALENDAR
