BEGIN:VCALENDAR
VERSION:2.0
PRODID:
BEGIN:VEVENT
UID:201657lhn
DTSTAMP:20260421T003118Z
DTSTART:20260514T133000Z
DTEND:20260514T170000Z
SUMMARY: Spring Member Appreciation Day: CAF Edition
DESCRIPTION: Earn complimentary CPE at MOCPA's Spring Member Appreciation Day: CAF Edition! These sponsored sessions are designed for members in corporate accounting and finance\, this event delivers valuable insights in a convenient virtual event. Featuring timely topics and practical strategies\, the agenda is built to support your professional growth and continued success in the CAF space. \n  \nThis event will have a total of four 50-minute sessions providing 1 CPE credit each. You will be registered for every session\, attend the ones you want or attend them all! Click on the Agenda tab to see course descriptions. \n  \nEvent Overview:\n  \n8:30am – 9:20am – Cash Flow Is a Leadership Problem\, Not a Reporting Problem Presented by: The CFO Project10-minute break9:30am – 10:20am – The Lifecycle of Real Estate Tax From Cost Segregation to 1245x\, Presented by: CSA Partners10-minute break10:30am – 11:20am – Cybersecurity Essentials for CPAs and Financial Advisors\, Presented by: IP Services10-minute break 11:30am – 12:20pm – Session Coming Soon! \n  \n \n  
CLASS:PUBLIC
END:VEVENT
END:VCALENDAR
