BEGIN:VCALENDAR
VERSION:2.0
PRODID:
BEGIN:VEVENT
UID:201623lhn
DTSTAMP:20260421T003736Z
DTSTART:20260710T150000Z
DTEND:20260710T160000Z
SUMMARY: Economic Update Series
DESCRIPTION: As the status of the economy weighs heavy on most everyone's minds\, MOCPA is hosting a complimentary online Economic Update Series for members\, featuring Chris Kuehl\, Ph.D. author of the Flagship Report and president of Armada Corporate Intelligence. He will provide a big picture understanding of the current environment and identify important elements to watch for that might impact your business or clients in the short- and near-term\n 
CLASS:PUBLIC
END:VEVENT
END:VCALENDAR
