BEGIN:VCALENDAR
VERSION:2.0
PRODID:
BEGIN:VEVENT
UID:201562lcc
DTSTAMP:20260421T101026Z
DTSTART:20260520T180000Z
DTEND:20260520T194000Z
SUMMARY: Governmental Accounting Conference - Ethics
DESCRIPTION: Optional Ethics Session: Ethical and Independence Considerations in Yellow Book Engagements. This course offers a clear\, practical introduction to government auditing\, covering when standards apply\, the ethical foundation of Yellow Book engagements\, and independence rules and documentation requirements. Perfect for those seeking a solid\, easy-to-grasp overview\n 
CLASS:PUBLIC
END:VEVENT
END:VCALENDAR
