BEGIN:VCALENDAR
VERSION:2.0
PRODID:
BEGIN:VEVENT
UID:194956mb
DTSTAMP:20260421T135030Z
DTSTART:20260421T130000Z
DTEND:20260421T150000Z
SUMMARY: K2's Collaboration - Best Platforms And Practices
DESCRIPTION: Collaboration remains one of today's hottest topics. Technology has fueled today's collaboration options\, and work-from anywhere environments virtually demand collaboration platforms. In this session\, you will learn today's best tools and practices to facilitate more effective collaboration in your organization. In this session\, you will learn about today's mainstream collaboration platforms & Microsoft 365\, Google Workspace\, and Zoho - and how these options are similar and differ. You will also learn about other collaboration options\, including Slack\, Zoom\, and Webex\, and you can incorporate these tools into your collaboration environments. Further\, you will learn about some of the best practices and procedures that must be in place to optimize your collaborative environments and experiences\n 
CLASS:PUBLIC
END:VEVENT
END:VCALENDAR
